BEGIN:VCALENDAR
VERSION:2.0
PRODID:-//Vovkulaky - ECPv5.14.2.1//NONSGML v1.0//EN
CALSCALE:GREGORIAN
METHOD:PUBLISH
X-WR-CALNAME:Vovkulaky
X-ORIGINAL-URL:http://vovkulaky.com
X-WR-CALDESC:Events for Vovkulaky
BEGIN:VTIMEZONE
TZID:America/Toronto
BEGIN:DAYLIGHT
TZOFFSETFROM:-0500
TZOFFSETTO:-0400
TZNAME:EDT
DTSTART:20200308T070000
END:DAYLIGHT
BEGIN:STANDARD
TZOFFSETFROM:-0400
TZOFFSETTO:-0500
TZNAME:EST
DTSTART:20201101T060000
END:STANDARD
END:VTIMEZONE
BEGIN:VEVENT
DTSTART;TZID=America/Toronto:20201023T180000
DTEND;TZID=America/Toronto:20201025T150000
DTSTAMP:20260419T113647
CREATED:20201012T155457Z
LAST-MODIFIED:20201012T155457Z
UID:6012-1603476000-1603638000@vovkulaky.com
SUMMARY:Самозгуба 2020
DESCRIPTION:Для Кого: Всі Вовкулаки та зацікавлені кандидати\nДата: 23-25 жовтня\, 2020\nДе: Algonquin Park – Portage Store\nРеченець зголошення: 16 жовтня\nКошт: $90.00 ($15 як маєте особисту канойку)\n\nДля деталів\, прошу звернутися до vovkulakyusp@gmail.com
URL:http://vovkulaky.com/event/%d1%81%d0%b0%d0%bc%d0%be%d0%b7%d0%b3%d1%83%d0%b1%d0%b0-2020/
LOCATION:Portage Store\, Algonquin Park\, Portage Store\, Algonquin Park\, Ontario\, P1H 2H4\, Canada
ORGANIZER;CN="%D0%9E%D0%B1%D0%BE%D0%B7%D0%BD%D0%B8%D0%B9%20%D0%A3%D0%A1%D0%9F":MAILTO:vovkulakyusp@gmail.com
END:VEVENT
END:VCALENDAR