BEGIN:VCALENDAR
VERSION:2.0
PRODID:-//Vovkulaky - ECPv5.14.2.1//NONSGML v1.0//EN
CALSCALE:GREGORIAN
METHOD:PUBLISH
X-WR-CALNAME:Vovkulaky
X-ORIGINAL-URL:http://vovkulaky.com
X-WR-CALDESC:Events for Vovkulaky
BEGIN:VTIMEZONE
TZID:America/Toronto
BEGIN:DAYLIGHT
TZOFFSETFROM:-0500
TZOFFSETTO:-0400
TZNAME:EDT
DTSTART:20200308T070000
END:DAYLIGHT
BEGIN:STANDARD
TZOFFSETFROM:-0400
TZOFFSETTO:-0500
TZNAME:EST
DTSTART:20201101T060000
END:STANDARD
END:VTIMEZONE
BEGIN:VEVENT
DTSTART;TZID=America/Toronto:20201003T080000
DTEND;TZID=America/Toronto:20201003T170000
DTSTAMP:20260419T100848
CREATED:20201001T030516Z
LAST-MODIFIED:20201001T030516Z
UID:5975-1601712000-1601744400@vovkulaky.com
SUMMARY:Велика Рада 2020 - 3-ого жовтня
DESCRIPTION:З огляду на пандемію та обмеження пов’язані із коронавірусом\, цьогорічна Рада відбудеться віртуально по Zoom (по інтернеті).\n\nКоли: 3-го жовтня 2020р починаючи 08:00 ранку (східний стандартний час)\n\nЩоби зареєструйтесь на Раду\, вишліть прохання обозному oboznyups@gmail.com.  Вітаємо брати участь усім Вовкулакам\, як також Пластунам котрі зацікавлені розвідати курінь Вовкулаків (можна брати участь у нарадах\, але не у самі Раді).
URL:http://vovkulaky.com/event/%d0%b2%d0%b5%d0%bb%d0%b8%d0%ba%d0%b0-%d1%80%d0%b0%d0%b4%d0%b0-2020-3-%d0%be%d0%b3%d0%be-%d0%b6%d0%be%d0%b2%d1%82%d0%bd%d1%8f/
LOCATION:мережа
ORGANIZER;CN="%D0%9E%D0%B1%D0%BE%D0%B7%D0%BD%D0%B8%D0%B9":MAILTO:oboznyups@gmail.com
END:VEVENT
END:VCALENDAR